BEGIN:VCALENDAR
VERSION:2.0
PRODID:-//ChamberMaster//Event Calendar 2.0//EN
METHOD:PUBLISH
X-PUBLISHED-TTL:P3D
REFRESH-INTERVAL:P3D
CALSCALE:GREGORIAN
BEGIN:VEVENT
DTSTART:20160122T130000Z
DTEND:20160122T170000Z
X-MICROSOFT-CDO-ALLDAYEVENT:FALSE
SUMMARY:Ag is Everyone's Business
DESCRIPTION:Ag is Everyone's Business featuring keynote speaker John Phipps.
X-ALT-DESC;FMTTYPE=text/html:Ag is Everyone&#39\;s Business featuring keynote speaker John Phipps.&nbsp\;
LOCATION:Southern State Community College Patriot Center 100 Hobart Drive Hillsboro\, OH 45133
UID:e.2005.455
SEQUENCE:3
DTSTAMP:20260425T162117Z
URL:https://business.thehighlandchamber.com/events/details/ag-is-everyone-s-business-01-22-2016-455
END:VEVENT

END:VCALENDAR
