BEGIN:VCALENDAR
VERSION:2.0
PRODID:-//ChamberMaster//Event Calendar 2.0//EN
METHOD:PUBLISH
X-PUBLISHED-TTL:P3D
REFRESH-INTERVAL:P3D
CALSCALE:GREGORIAN
BEGIN:VEVENT
DTSTART:20140912T120000Z
DTEND:20140912T200000Z
X-MICROSOFT-CDO-ALLDAYEVENT:FALSE
SUMMARY:Annual Golf Outing
DESCRIPTION:
X-ALT-DESC;FMTTYPE=text/html:
LOCATION:Buckeye Hills Country Club 7261 County Highway 166 Greenfield\, OH 45123
UID:e.2005.424
SEQUENCE:3
DTSTAMP:20260424T145350Z
URL:https://business.thehighlandchamber.com/events/details/annual-golf-outing-09-12-2014-424
END:VEVENT

END:VCALENDAR
