BEGIN:VCALENDAR
VERSION:2.0
PRODID:-//ChamberMaster//Event Calendar 2.0//EN
METHOD:PUBLISH
X-PUBLISHED-TTL:P3D
REFRESH-INTERVAL:P3D
CALSCALE:GREGORIAN
BEGIN:VEVENT
DTSTART:20140424T210000Z
DTEND:20140424T230000Z
X-MICROSOFT-CDO-ALLDAYEVENT:FALSE
SUMMARY:Business After Hours: YMCA
DESCRIPTION:
X-ALT-DESC;FMTTYPE=text/html:
LOCATION:201 Diamond Dr. Hillsboro\, OH 45133
UID:e.2005.439
SEQUENCE:3
DTSTAMP:20260424T071138Z
URL:https://business.thehighlandchamber.com/events/details/business-after-hours-ymca-04-24-2014-439
END:VEVENT

END:VCALENDAR
