BEGIN:VCALENDAR
VERSION:2.0
PRODID:-//ChamberMaster//Event Calendar 2.0//EN
METHOD:PUBLISH
X-PUBLISHED-TTL:P3D
REFRESH-INTERVAL:P3D
CALSCALE:GREGORIAN
BEGIN:VEVENT
DTSTART:20151008T210000Z
DTEND:20151008T230000Z
X-MICROSOFT-CDO-ALLDAYEVENT:FALSE
SUMMARY:Business Bash : Southern State Community College
DESCRIPTION:
X-ALT-DESC;FMTTYPE=text/html:
LOCATION:Southern State Community College 100 Hobart Drive Hillsboro\, OH 45133
UID:e.2005.454
SEQUENCE:3
DTSTAMP:20260425T115333Z
URL:https://business.thehighlandchamber.com/events/details/business-bash-southern-state-community-college-10-08-2015-454
END:VEVENT

END:VCALENDAR
