BEGIN:VCALENDAR
VERSION:2.0
PRODID:-//ChamberMaster//Event Calendar 2.0//EN
METHOD:PUBLISH
X-PUBLISHED-TTL:P3D
REFRESH-INTERVAL:P3D
CALSCALE:GREGORIAN
BEGIN:VEVENT
DTSTART:20150325T153000Z
DTEND:20150325T170000Z
X-MICROSOFT-CDO-ALLDAYEVENT:FALSE
SUMMARY:Business Symposium
DESCRIPTION:A business symposium focusing on employment law.
X-ALT-DESC;FMTTYPE=text/html:A business symposium focusing on employment law.
LOCATION:Times Gazette Conference Room\, 108 Governor Trimble Place\, Hillsboro
UID:e.2005.451
SEQUENCE:3
DTSTAMP:20260425T003816Z
URL:https://business.thehighlandchamber.com/events/details/business-symposium-03-25-2015-451
END:VEVENT

END:VCALENDAR
