BEGIN:VCALENDAR
VERSION:2.0
PRODID:-//ChamberMaster//Event Calendar 2.0//EN
METHOD:PUBLISH
X-PUBLISHED-TTL:P3D
REFRESH-INTERVAL:P3D
CALSCALE:GREGORIAN
BEGIN:VEVENT
DTSTART:20140320T153000Z
DTEND:20140320T170000Z
X-MICROSOFT-CDO-ALLDAYEVENT:FALSE
SUMMARY:Business Symposium Series
DESCRIPTION:The Ohio Chamber of Commerce\, in conjunction with The Highland County Chamber will be presenting a Business Symposium Series event on Thursday\, March 20\, from 11:30 a.m. to 1:00 p.m. inside The Times-Gazette Conference Room at 108 Governor Tremble Place\, Hillsboro. The topic of discussion will be on disabilities\, accommodations\, and intermittent leave as Todd Sarver\, of Steptoe & Johnson helps guests understand and manage obligations under the ADAAA & FMLA. $10 reserves your spot and includes lunch. Non-Chamber Members can also attend\, for $15. Please call 937.393.1111 or email The Chamber at info@TheHighlandChamber.com to reserve your spot today.
X-ALT-DESC;FMTTYPE=text/html:The Ohio Chamber of Commerce\, in conjunction with The Highland County Chamber will be presenting a Business Symposium Series event on Thursday\, March 20\, from 11:30 a.m. to 1:00 p.m. inside The Times-Gazette Conference Room at 108 Governor Tremble Place\, Hillsboro. The topic of discussion will be on disabilities\, accommodations\, and intermittent leave as Todd Sarver\, of Steptoe &amp\; Johnson helps guests understand and manage obligations under the ADAAA &amp\; FMLA. $10 reserves your spot and includes lunch. Non-Chamber Members can also attend\, for $15. Please call 937.393.1111 or email The Chamber at info@TheHighlandChamber.com to reserve your spot today.
LOCATION:The Times-Gazette Conference Room 108 Gov. Trimble Place Hillsboro\, OH 45133
UID:e.2005.438
SEQUENCE:3
DTSTAMP:20260424T053046Z
URL:https://business.thehighlandchamber.com/events/details/business-symposium-series-03-20-2014-438
END:VEVENT

END:VCALENDAR
