BEGIN:VCALENDAR
VERSION:2.0
PRODID:-//ChamberMaster//Event Calendar 2.0//EN
METHOD:PUBLISH
X-PUBLISHED-TTL:P3D
REFRESH-INTERVAL:P3D
CALSCALE:GREGORIAN
BEGIN:VEVENT
DTSTART:20160818T210000Z
DTEND:20160818T230000Z
X-MICROSOFT-CDO-ALLDAYEVENT:FALSE
SUMMARY:Greenfield Business Bash - Business & Brews
DESCRIPTION:
X-ALT-DESC;FMTTYPE=text/html:
LOCATION:Murray-Fettro Funeral Home 380 Jefferson St.\, Greenfield 5 - 7 pm
UID:e.2005.541
SEQUENCE:3
DTSTAMP:20260426T031801Z
URL:https://business.thehighlandchamber.com/events/details/greenfield-business-bash-business-brews-08-18-2016-541
END:VEVENT

END:VCALENDAR
