BEGIN:VCALENDAR
VERSION:2.0
PRODID:-//ChamberMaster//Event Calendar 2.0//EN
METHOD:PUBLISH
X-PUBLISHED-TTL:P3D
REFRESH-INTERVAL:P3D
CALSCALE:GREGORIAN
BEGIN:VEVENT
DTSTART:20160324T210000Z
DTEND:20160324T230000Z
X-MICROSOFT-CDO-ALLDAYEVENT:FALSE
SUMMARY:Grow! Highland County Client Open House
DESCRIPTION:
X-ALT-DESC;FMTTYPE=text/html:
LOCATION:Leesburg Firehouse 200 South St\, Leesburg\, OH 45135
UID:e.2005.463
SEQUENCE:3
DTSTAMP:20260425T193122Z
URL:https://business.thehighlandchamber.com/events/details/grow-highland-county-client-open-house-03-24-2016-463
END:VEVENT

END:VCALENDAR
