BEGIN:VCALENDAR
VERSION:2.0
PRODID:-//ChamberMaster//Event Calendar 2.0//EN
METHOD:PUBLISH
X-PUBLISHED-TTL:P3D
REFRESH-INTERVAL:P3D
CALSCALE:GREGORIAN
BEGIN:VEVENT
DTSTART:20151217T220000Z
DTEND:20151218T000000Z
X-MICROSOFT-CDO-ALLDAYEVENT:FALSE
SUMMARY:Grow! Highland County Open House
DESCRIPTION:
X-ALT-DESC;FMTTYPE=text/html:
LOCATION:Alley 21 Banquet Room
UID:e.2005.456
SEQUENCE:3
DTSTAMP:20260425T152425Z
URL:https://business.thehighlandchamber.com/events/details/grow-highland-county-open-house-12-17-2015-456
END:VEVENT

END:VCALENDAR
