BEGIN:VCALENDAR
VERSION:2.0
PRODID:-//ChamberMaster//Event Calendar 2.0//EN
METHOD:PUBLISH
X-PUBLISHED-TTL:P3D
REFRESH-INTERVAL:P3D
CALSCALE:GREGORIAN
BEGIN:VEVENT
DTSTART:20150501T150000Z
DTEND:20150501T163000Z
X-MICROSOFT-CDO-ALLDAYEVENT:FALSE
SUMMARY:Let's Do Brunch!
DESCRIPTION:
X-ALT-DESC;FMTTYPE=text/html:
LOCATION:Southern State Community College\, 100 Hobart Drive
UID:e.2005.450
SEQUENCE:3
DTSTAMP:20260425T041654Z
URL:https://business.thehighlandchamber.com/events/details/let-s-do-brunch-05-01-2015-450
END:VEVENT

END:VCALENDAR
