BEGIN:VCALENDAR
VERSION:2.0
PRODID:-//ChamberMaster//Event Calendar 2.0//EN
METHOD:PUBLISH
X-PUBLISHED-TTL:P3D
REFRESH-INTERVAL:P3D
CALSCALE:GREGORIAN
BEGIN:VEVENT
DTSTART:20141003T153000Z
DTEND:20141003T170000Z
X-MICROSOFT-CDO-ALLDAYEVENT:FALSE
SUMMARY:Let's Do Lunch - Women's Luncheon
DESCRIPTION:
X-ALT-DESC;FMTTYPE=text/html:
LOCATION:Southern State Community College 100 Hobart Drive Hillsboro\, OH 45133
UID:e.2005.422
SEQUENCE:3
DTSTAMP:20260424T164120Z
URL:https://business.thehighlandchamber.com/events/details/let-s-do-lunch-women-s-luncheon-10-03-2014-422
END:VEVENT

END:VCALENDAR
