BEGIN:VCALENDAR
VERSION:2.0
PRODID:-//ChamberMaster//Event Calendar 2.0//EN
METHOD:PUBLISH
X-PUBLISHED-TTL:P3D
REFRESH-INTERVAL:P3D
CALSCALE:GREGORIAN
BEGIN:VEVENT
DTSTART:20240619T000000Z
DTEND:20240619T013000Z
X-MICROSOFT-CDO-ALLDAYEVENT:FALSE
SUMMARY:Maximizing Your Workforce Potential With TechCred
DESCRIPTION:Gear up for the July TechCred Application! Join us for an exclusive session organized by TechSolve\, where you'll uncover the simplicity and user-friendliness of the TechCred Application process. Led by Traci Spencer\, Director of Government Programs at TechSolve\, this immersive walkthrough will leave you amazed at how easy it is to navigate.
X-ALT-DESC;FMTTYPE=text/html:Gear up for the July TechCred Application! Join us for an exclusive session organized by TechSolve\, where you&#39\;ll uncover the simplicity and user-friendliness of the TechCred Application process. Led by Traci Spencer\, Director of Government Programs at TechSolve\, this immersive walkthrough will leave you amazed at how easy it is to navigate.
LOCATION:720 N. High Street\, Mt. Orab\, OH 45154
UID:e.2005.920
SEQUENCE:3
DTSTAMP:20260424T171728Z
URL:https://business.thehighlandchamber.com/events/details/maximizing-your-workforce-potential-with-techcred-920
END:VEVENT

END:VCALENDAR
