BEGIN:VCALENDAR
VERSION:2.0
PRODID:-//ChamberMaster//Event Calendar 2.0//EN
METHOD:PUBLISH
X-PUBLISHED-TTL:P3D
REFRESH-INTERVAL:P3D
CALSCALE:GREGORIAN
BEGIN:VEVENT
DTSTART:20240531T150000Z
DTEND:20240531T153000Z
X-MICROSOFT-CDO-ALLDAYEVENT:FALSE
SUMMARY:McCarty Associates 60th Anniversary Ribbon Cutting
DESCRIPTION:Join us for a ribbon cutting celebrating McCarty Associates 60th Anniversary\, on Friday\, May 31\, at 11:00 a.m. McCarty Associates is located at 213 North High Street in Hillsboro.
X-ALT-DESC;FMTTYPE=text/html:<p><span background-color:="" font-size:="" segoe="" ui="">Join us for a ribbon cutting celebrating McCarty Associates 60th Anniversary\, on Friday\, May 31\, at 11:00 a.m. McCarty Associates is located at 213 North High Street in Hillsboro.</span></p>\n
LOCATION:213 North High Street Hillsboro\, Ohio 45133
UID:e.2005.916
SEQUENCE:3
DTSTAMP:20260424T185911Z
URL:https://business.thehighlandchamber.com/events/details/mccarty-associates-60th-anniversary-ribbon-cutting-916
END:VEVENT

END:VCALENDAR
