BEGIN:VCALENDAR
VERSION:2.0
PRODID:-//ChamberMaster//Event Calendar 2.0//EN
METHOD:PUBLISH
X-PUBLISHED-TTL:P3D
REFRESH-INTERVAL:P3D
CALSCALE:GREGORIAN
BEGIN:VEVENT
DTSTART:20160227T180000Z
DTEND:20160227T210000Z
X-MICROSOFT-CDO-ALLDAYEVENT:FALSE
SUMMARY:Open House - Hope House Christian Counseling Center 24 E. Water St. Sinking Spring\, OH 45172
DESCRIPTION:
X-ALT-DESC;FMTTYPE=text/html:
LOCATION:24 E. Water St. Sinking Spring\, OH 45172
UID:e.2005.468
SEQUENCE:3
DTSTAMP:20260425T175818Z
URL:https://business.thehighlandchamber.com/events/details/open-house-hope-house-christian-counseling-center-24-e-water-st-sinking-spring-oh-45172-02-27-2016-468
END:VEVENT

END:VCALENDAR
