BEGIN:VCALENDAR
VERSION:2.0
PRODID:-//ChamberMaster//Event Calendar 2.0//EN
METHOD:PUBLISH
X-PUBLISHED-TTL:P3D
REFRESH-INTERVAL:P3D
CALSCALE:GREGORIAN
BEGIN:VEVENT
DTSTART:20160623T213000Z
DTEND:20160624T000000Z
X-MICROSOFT-CDO-ALLDAYEVENT:FALSE
SUMMARY:Party on the Lawn - Annual Membership Dinner
DESCRIPTION:Join your friends and colleagues for a first-rate dinner prepared by some of the area's best caterers. Enjoy exquisite hors d'oeuvres and an open wine and beer bar as you mingle on the lawn of the beautiful and historic Scott House.\n\n\n\nIndividual tickets may be purchased for $50 each\, or bundle tickets by choosing a sponsorship level.\n\n\n\nFor more information or to become a sponsor\, call the Chamber at 393-1111 or email info@thehighlandchamber.com.
X-ALT-DESC;FMTTYPE=text/html:<span style="color: rgb(75\, 79\, 86)\; font-family: helvetica\, arial\, sans-serif\; font-size: 14px\; line-height: 18.76px\;">Join your friends and colleagues for a first-rate dinner prepared by some of the area&#39\;s best caterers. Enjoy exquisite hors d&#39\;oeuvres and an open wine and beer bar as you mingle on the lawn of the beautiful and historic Scott House.</span><br style="color: rgb(75\, 79\, 86)\; font-family: helvetica\, arial\, sans-serif\; font-size: 14px\; line-height: 18.76px\;" />\n<br style="color: rgb(75\, 79\, 86)\; font-family: helvetica\, arial\, sans-serif\; font-size: 14px\; line-height: 18.76px\;" />\n<span style="color: rgb(75\, 79\, 86)\; font-family: helvetica\, arial\, sans-serif\; font-size: 14px\; line-height: 18.76px\;">Individual tickets may be purchased for $50 each\, or bundle tickets by choosing a sponsorship level.</span><br style="color: rgb(75\, 79\, 86)\; font-family: helvetica\, arial\, sans-serif\; font-size: 14px\; line-height: 18.76px\;" />\n<br style="color: rgb(75\, 79\, 86)\; font-family: helvetica\, arial\, sans-serif\; font-size: 14px\; line-height: 18.76px\;" />\n<span style="color: rgb(75\, 79\, 86)\; font-family: helvetica\, arial\, sans-serif\; font-size: 14px\; line-height: 18.76px\;">For more information or to become a sponsor\, call the Chamber at 393-1111 or email info@thehighlandchamber.co</span><wbr style="color: rgb(75\, 79\, 86)\; font-family: helvetica\, arial\, sans-serif\; font-size: 14px\; line-height: 18.76px\;" /><span style="color: rgb(75\, 79\, 86)\; font-family: helvetica\, arial\, sans-serif\; font-size: 14px\; line-height: 18.76px\;">m.</span>
LOCATION:Scott House Lawn\, 338 W Main St\, Hillsboro\, OH Large brick Greek Revival home with paved circle drive in front.
UID:e.2005.470
SEQUENCE:3
DTSTAMP:20260426T000248Z
URL:https://business.thehighlandchamber.com/events/details/party-on-the-lawn-annual-membership-dinner-06-23-2016-470
END:VEVENT

END:VCALENDAR
