BEGIN:VCALENDAR
VERSION:2.0
PRODID:-//ChamberMaster//Event Calendar 2.0//EN
METHOD:PUBLISH
X-PUBLISHED-TTL:P3D
REFRESH-INTERVAL:P3D
CALSCALE:GREGORIAN
BEGIN:VEVENT
DTSTART:20140326T120000Z
DTEND:20140326T203000Z
X-MICROSOFT-CDO-ALLDAYEVENT:FALSE
SUMMARY:Safety Congress "Fun Bus"
DESCRIPTION:The HFC Safety Council will be chartering a "Fun Bus" trip to the Ohio Safety Congress & Expo on Wednesday\, March 26\, 2014. This trip will count as ONE external training credit towards your meeting requirements.\n\n\n\nWe will be leaving from the Fayette County Fairgrounds in Washington Courthouse (WCH) at 8AM with arrival in Columbus at 9am. You will then have the opportunity to explore the over 225 exhibitors showcasing their latest safety innovations\, products and services\, and 170 educational sessions offered on a variety of the hottest topics in the industry. We will depart the Congress at 3:45pm\, with arrival in WCH at 4:30pm.\n\n\n\nSeating is limited\, so register today at www.hfcsafetycouncil.com.
X-ALT-DESC;FMTTYPE=text/html:The HFC Safety Council will be chartering a &ldquo\;Fun Bus&rdquo\; trip to the Ohio Safety Congress &amp\; Expo on Wednesday\, March 26\, 2014. This trip will count as ONE external training credit towards your meeting requirements.<br />\n<br />\nWe will be leaving from the Fayette County Fairgrounds in Washington Courthouse (WCH) at 8AM with arrival in Columbus at 9am. You will then have the opportunity to explore the over 225 exhibitors showcasing their latest safety innovations\, products and services\, and 170 educational sessions offered on a variety of the hottest topics in the industry. We will depart the Congress at 3:45pm\, with arrival in WCH at 4:30pm.<br />\n<br />\nSeating is limited\, so register today at www.hfcsafetycouncil.com.
LOCATION:
UID:e.2005.440
SEQUENCE:3
DTSTAMP:20260424T053040Z
URL:https://business.thehighlandchamber.com/events/details/safety-congress-fun-bus-03-26-2014-440
END:VEVENT

END:VCALENDAR
