BEGIN:VCALENDAR
VERSION:2.0
PRODID:-//ChamberMaster//Event Calendar 2.0//EN
METHOD:PUBLISH
X-PUBLISHED-TTL:P3D
REFRESH-INTERVAL:P3D
CALSCALE:GREGORIAN
BEGIN:VEVENT
DTSTART:20140220T150000Z
DTEND:20140220T180000Z
X-MICROSOFT-CDO-ALLDAYEVENT:FALSE
SUMMARY:Small Business Resource Forum
DESCRIPTION:A Small Business Resource Forum\, held by State Representative Cliff Rosenberger\, will be held on Thursday\, February 20\, from 10:00 a.m. to 1:00 p.m. at The Highland County Hi-Tech Center (1575 N. High St.\, Hillsboro). Come and hear from officials about the resources that can help create or grow your small business. Small businesses are playing an essential role in Ohio's economic come back\, and it's important that you have  every advantage. The forum is open to the public!  Featured speakers include: Martin Goldman\, District Director\, Small Business Administration\; Randel Mohemius\, Business Program Specialist\, United States Department of Agriculture\, Rural Development Loan\; Daryl Revoldt\, Legislative & Community Outreach Director\, JobsOhio\; Chris Smalley\, Business Development Specialist\, Ohio State University South Centers\; and many more.
X-ALT-DESC;FMTTYPE=text/html:A Small Business Resource Forum\, held by State Representative Cliff Rosenberger\, will be held on Thursday\, February 20\, from 10:00 a.m. to 1:00 p.m. at The Highland County Hi-Tech Center (1575 N. High St.\, Hillsboro). Come and hear from officials about the resources that can help create or grow your small business. Small businesses are playing an essential role in Ohio&rsquo\;s economic come back\, and it&rsquo\;s important that you have&nbsp\; every advantage. The forum is open to the public!&nbsp\; Featured speakers include: Martin Goldman\, District Director\, Small Business Administration\; Randel Mohemius\, Business Program Specialist\, United States Department of Agriculture\, Rural Development Loan\; Daryl Revoldt\, Legislative &amp\; Community Outreach Director\, JobsOhio\; Chris Smalley\, Business Development Specialist\, Ohio State University South Centers\; and many more. &nbsp\;<br />\n
LOCATION:Highland County Hi-Tech Center 1575 N. High St. Hillsboro\, OH 45133
UID:e.2005.436
SEQUENCE:3
DTSTAMP:20260424T050418Z
URL:https://business.thehighlandchamber.com/events/details/small-business-resource-forum-02-20-2014-436
END:VEVENT

END:VCALENDAR
